BEGIN:VCALENDAR
VERSION:2.0
PRODID:-//Robin Seletsky - ECPv6.15.20//NONSGML v1.0//EN
CALSCALE:GREGORIAN
METHOD:PUBLISH
X-WR-CALNAME:Robin Seletsky
X-ORIGINAL-URL:https://robinseletsky.com
X-WR-CALDESC:Events for Robin Seletsky
REFRESH-INTERVAL;VALUE=DURATION:PT1H
X-Robots-Tag:noindex
X-PUBLISHED-TTL:PT1H
BEGIN:VTIMEZONE
TZID:America/New_York
BEGIN:DAYLIGHT
TZOFFSETFROM:-0500
TZOFFSETTO:-0400
TZNAME:EDT
DTSTART:20180311T070000
END:DAYLIGHT
BEGIN:STANDARD
TZOFFSETFROM:-0400
TZOFFSETTO:-0500
TZNAME:EST
DTSTART:20181104T060000
END:STANDARD
BEGIN:DAYLIGHT
TZOFFSETFROM:-0500
TZOFFSETTO:-0400
TZNAME:EDT
DTSTART:20190310T070000
END:DAYLIGHT
BEGIN:STANDARD
TZOFFSETFROM:-0400
TZOFFSETTO:-0500
TZNAME:EST
DTSTART:20191103T060000
END:STANDARD
BEGIN:DAYLIGHT
TZOFFSETFROM:-0500
TZOFFSETTO:-0400
TZNAME:EDT
DTSTART:20200308T070000
END:DAYLIGHT
BEGIN:STANDARD
TZOFFSETFROM:-0400
TZOFFSETTO:-0500
TZNAME:EST
DTSTART:20201101T060000
END:STANDARD
END:VTIMEZONE
BEGIN:VEVENT
DTSTART;TZID=America/New_York:20190715T210000
DTEND;TZID=America/New_York:20190715T230000
DTSTAMP:20260423T141318
CREATED:20190512T151929Z
LAST-MODIFIED:20190512T170248Z
UID:568-1563224400-1563231600@robinseletsky.com
SUMMARY:Robin Seletsky\, Peter Stan and Eva Salina at Mohonk Mountain House
DESCRIPTION:  \nTribute concert to klezmer great\, Harold Seletsky with his daughter Robin\, long-time accordionist Peter Stan and vocalist Eva Salina.  Join them for a performance of original and traditional klezmer music in the spirit of Harold’s ensemble\, The West End Klezmorim \nhttps://robinseletsky.com/wp-content/uploads/2019/05/araber-me-clip.mp3\n  \n 
URL:https://robinseletsky.com/event/robin-seletsky-at-mohonk-mountain-house/
LOCATION:Mohonk Mountain House\, 1000 Mountain Rest Road\, New Paltz\, New York\, 12561\, United States
END:VEVENT
END:VCALENDAR