BEGIN:VCALENDAR
VERSION:2.0
PRODID:-//Robin Seletsky - ECPv6.15.20//NONSGML v1.0//EN
CALSCALE:GREGORIAN
METHOD:PUBLISH
X-ORIGINAL-URL:https://robinseletsky.com
X-WR-CALDESC:Events for Robin Seletsky
REFRESH-INTERVAL;VALUE=DURATION:PT1H
X-Robots-Tag:noindex
X-PUBLISHED-TTL:PT1H
BEGIN:VTIMEZONE
TZID:America/New_York
BEGIN:DAYLIGHT
TZOFFSETFROM:-0500
TZOFFSETTO:-0400
TZNAME:EDT
DTSTART:20180311T070000
END:DAYLIGHT
BEGIN:STANDARD
TZOFFSETFROM:-0400
TZOFFSETTO:-0500
TZNAME:EST
DTSTART:20181104T060000
END:STANDARD
BEGIN:DAYLIGHT
TZOFFSETFROM:-0500
TZOFFSETTO:-0400
TZNAME:EDT
DTSTART:20190310T070000
END:DAYLIGHT
BEGIN:STANDARD
TZOFFSETFROM:-0400
TZOFFSETTO:-0500
TZNAME:EST
DTSTART:20191103T060000
END:STANDARD
BEGIN:DAYLIGHT
TZOFFSETFROM:-0500
TZOFFSETTO:-0400
TZNAME:EDT
DTSTART:20200308T070000
END:DAYLIGHT
BEGIN:STANDARD
TZOFFSETFROM:-0400
TZOFFSETTO:-0500
TZNAME:EST
DTSTART:20201101T060000
END:STANDARD
END:VTIMEZONE
BEGIN:VEVENT
DTSTART;TZID=America/New_York:20190910T170000
DTEND;TZID=America/New_York:20190910T190000
DTSTAMP:20260423T110416
CREATED:20190831T194811Z
LAST-MODIFIED:20190904T152006Z
UID:914-1568134800-1568142000@robinseletsky.com
SUMMARY:John O'Connor and Fellow Travelers at Cooperstown Farmers Market
DESCRIPTION:  \nJohn O’Connor and Fellow Travelers will be performing original music by the singer/songwriter/activist along with myself on clarinet\, Tom Ives on bass and Steve Murtha on guitar and vocals. Inspired by the likes of Woody Guthrie and Pete Seeger\, his music also includes a bit of blues\, bluegrass and more.  Our first time at the Cooperstown Farmers Market \nLISTEN HERE: \n \n  \n 
URL:https://robinseletsky.com/event/john-oconnor-and-fellow-travelers-at-cooperstown-farmers-market/
LOCATION:NY
END:VEVENT
END:VCALENDAR