BEGIN:VCALENDAR
VERSION:2.0
PRODID:-//Robin Seletsky - ECPv6.15.20//NONSGML v1.0//EN
CALSCALE:GREGORIAN
METHOD:PUBLISH
X-WR-CALNAME:Robin Seletsky
X-ORIGINAL-URL:https://robinseletsky.com
X-WR-CALDESC:Events for Robin Seletsky
REFRESH-INTERVAL;VALUE=DURATION:PT1H
X-Robots-Tag:noindex
X-PUBLISHED-TTL:PT1H
BEGIN:VTIMEZONE
TZID:America/New_York
BEGIN:DAYLIGHT
TZOFFSETFROM:-0500
TZOFFSETTO:-0400
TZNAME:EDT
DTSTART:20190310T070000
END:DAYLIGHT
BEGIN:STANDARD
TZOFFSETFROM:-0400
TZOFFSETTO:-0500
TZNAME:EST
DTSTART:20191103T060000
END:STANDARD
BEGIN:DAYLIGHT
TZOFFSETFROM:-0500
TZOFFSETTO:-0400
TZNAME:EDT
DTSTART:20200308T070000
END:DAYLIGHT
BEGIN:STANDARD
TZOFFSETFROM:-0400
TZOFFSETTO:-0500
TZNAME:EST
DTSTART:20201101T060000
END:STANDARD
BEGIN:DAYLIGHT
TZOFFSETFROM:-0500
TZOFFSETTO:-0400
TZNAME:EDT
DTSTART:20210314T070000
END:DAYLIGHT
BEGIN:STANDARD
TZOFFSETFROM:-0400
TZOFFSETTO:-0500
TZNAME:EST
DTSTART:20211107T060000
END:STANDARD
END:VTIMEZONE
BEGIN:VEVENT
DTSTART;TZID=America/New_York:20200811T170000
DTEND;TZID=America/New_York:20200811T180000
DTSTAMP:20260422T181518
CREATED:20191201T171755Z
LAST-MODIFIED:20200508T014820Z
UID:1128-1597165200-1597168800@robinseletsky.com
SUMMARY:CANCELLED Big Galut(e) at Glimmerglass Festival
DESCRIPTION:We’ll be back on the Pavilion Series this summer with our brand of old and new klezmer favorites as well as a few classical selections inspired by the Jewish Diaspora. Delighted that countertenor\, Aryeh Nussbaum Cohen\, will take time from his work on the Mainstage in Handel’s Rinaldo in order to join us.   We’re also pleased to have been invited to do our program twice this summer – July 28 and August 11.  Hope to see you there!
URL:https://robinseletsky.com/event/1128/
LOCATION:Glimmerglass Festival
END:VEVENT
END:VCALENDAR