BEGIN:VCALENDAR
VERSION:2.0
PRODID:-//Robin Seletsky - ECPv6.15.20//NONSGML v1.0//EN
CALSCALE:GREGORIAN
METHOD:PUBLISH
X-ORIGINAL-URL:https://robinseletsky.com
X-WR-CALDESC:Events for Robin Seletsky
REFRESH-INTERVAL;VALUE=DURATION:PT1H
X-Robots-Tag:noindex
X-PUBLISHED-TTL:PT1H
BEGIN:VTIMEZONE
TZID:America/New_York
BEGIN:DAYLIGHT
TZOFFSETFROM:-0500
TZOFFSETTO:-0400
TZNAME:EDT
DTSTART:20180311T070000
END:DAYLIGHT
BEGIN:STANDARD
TZOFFSETFROM:-0400
TZOFFSETTO:-0500
TZNAME:EST
DTSTART:20181104T060000
END:STANDARD
BEGIN:DAYLIGHT
TZOFFSETFROM:-0500
TZOFFSETTO:-0400
TZNAME:EDT
DTSTART:20190310T070000
END:DAYLIGHT
BEGIN:STANDARD
TZOFFSETFROM:-0400
TZOFFSETTO:-0500
TZNAME:EST
DTSTART:20191103T060000
END:STANDARD
BEGIN:DAYLIGHT
TZOFFSETFROM:-0500
TZOFFSETTO:-0400
TZNAME:EDT
DTSTART:20200308T070000
END:DAYLIGHT
BEGIN:STANDARD
TZOFFSETFROM:-0400
TZOFFSETTO:-0500
TZNAME:EST
DTSTART:20201101T060000
END:STANDARD
END:VTIMEZONE
BEGIN:VEVENT
DTSTART;TZID=America/New_York:20190821T193000
DTEND;TZID=America/New_York:20190821T213000
DTSTAMP:20260423T105903
CREATED:20190513T150638Z
LAST-MODIFIED:20190524T173600Z
UID:628-1566415800-1566423000@robinseletsky.com
SUMMARY:BIG GALUT(E) ON CENTRAL VERMONT CHAMBER SERIES
DESCRIPTION:Happy to be making some great music with the good folks at the Central Vermont Chamber Music Festival.  If you’re in the Green Mountain State come hear our varied program of Jewish music from five centuries and six continents.  As with all of our performances we include original and traditional klezmer\, a few chamber music selections by Jewish composers\, Yiddish sing-alongs and even a few jokes.
URL:https://robinseletsky.com/event/big-galute-on-central-vermont-chamber-series/
LOCATION:Central Vermont Chamber Music Festival
END:VEVENT
END:VCALENDAR