BEGIN:VCALENDAR
VERSION:2.0
PRODID:-//Robin Seletsky - ECPv6.15.20//NONSGML v1.0//EN
CALSCALE:GREGORIAN
METHOD:PUBLISH
X-ORIGINAL-URL:https://robinseletsky.com
X-WR-CALDESC:Events for Robin Seletsky
REFRESH-INTERVAL;VALUE=DURATION:PT1H
X-Robots-Tag:noindex
X-PUBLISHED-TTL:PT1H
BEGIN:VTIMEZONE
TZID:America/New_York
BEGIN:DAYLIGHT
TZOFFSETFROM:-0500
TZOFFSETTO:-0400
TZNAME:EDT
DTSTART:20190310T070000
END:DAYLIGHT
BEGIN:STANDARD
TZOFFSETFROM:-0400
TZOFFSETTO:-0500
TZNAME:EST
DTSTART:20191103T060000
END:STANDARD
BEGIN:DAYLIGHT
TZOFFSETFROM:-0500
TZOFFSETTO:-0400
TZNAME:EDT
DTSTART:20200308T070000
END:DAYLIGHT
BEGIN:STANDARD
TZOFFSETFROM:-0400
TZOFFSETTO:-0500
TZNAME:EST
DTSTART:20201101T060000
END:STANDARD
BEGIN:DAYLIGHT
TZOFFSETFROM:-0500
TZOFFSETTO:-0400
TZNAME:EDT
DTSTART:20210314T070000
END:DAYLIGHT
BEGIN:STANDARD
TZOFFSETFROM:-0400
TZOFFSETTO:-0500
TZNAME:EST
DTSTART:20211107T060000
END:STANDARD
END:VTIMEZONE
BEGIN:VEVENT
DTSTART;TZID=America/New_York:20200712T170000
DTEND;TZID=America/New_York:20200712T210000
DTSTAMP:20260422T181836
CREATED:20200617T012553Z
LAST-MODIFIED:20200617T012853Z
UID:3007-1594573200-1594587600@robinseletsky.com
SUMMARY:Robin Seletsky and Peter Stan at Mohonk Mountain House
DESCRIPTION:This will be my first concert since we went into social isolation in early March.  I will be joined by the incomparable Peter Stan for two outdoor performances at this magnificent landmark. \n“Peter Stan supplied his usual chromatic fireworks with lightning trills\, uneasy close harmonies and turbulent rivers of minor-key arpeggios.” …..New York Music Daily
URL:https://robinseletsky.com/event/robin-seletsky-and-peter-stan-at-mohonk-mountain-house/
LOCATION:Mohonk Mountain House\, 1000 Mountain Rest Road\, New Paltz\, New York\, 12561\, United States
END:VEVENT
BEGIN:VEVENT
DTSTART;TZID=America/New_York:20200719T130000
DTEND;TZID=America/New_York:20200719T134500
DTSTAMP:20260422T181836
CREATED:20200627T150916Z
LAST-MODIFIED:20200627T150916Z
UID:3191-1595163600-1595166300@robinseletsky.com
SUMMARY:Learn A Klezmer Tune A Week
DESCRIPTION:EVERY SUNDAY AT 1:00 PM EASTERN DAYLIGHT TIME. Livestreamed klezmer lessons where I not only teach the tune of the week but give tips on how to ornament and inflect in the klezmer style.  Play\, livechat and ask questions in real time. All instruments welcome.  Join at any time.
URL:https://robinseletsky.com/event/learn-a-klezmer-tune-a-week-4/
LOCATION:Online
END:VEVENT
BEGIN:VEVENT
DTSTART;TZID=America/New_York:20200728T170000
DTEND;TZID=America/New_York:20200728T180000
DTSTAMP:20260422T181836
CREATED:20191201T171306Z
LAST-MODIFIED:20200508T014750Z
UID:1098-1595955600-1595959200@robinseletsky.com
SUMMARY:CANCELLED Big Galut(e) at Glimmerglass Festival
DESCRIPTION:We’ll be back on the Pavilion Series this summer with our brand of old and new klezmer favorites as well as a few classical selections inspired by the Jewish Diaspora. Delighted that countertenor\, Aryeh Nussbaum Cohen\, will take time from his work on the Mainstage in Handel’s Rinaldo in order to join us.   We’re also pleased to have been invited to do our program twice this summer – July 28 and August 11.  Hope to see you there!
URL:https://robinseletsky.com/event/big-galute-at-glimmerglass-festival/
LOCATION:Glimmerglass Festival
END:VEVENT
END:VCALENDAR